BEGIN:VCALENDAR
VERSION:2.0
PRODID:-//nett-spiel.de - ECPv6.15.8//NONSGML v1.0//EN
CALSCALE:GREGORIAN
METHOD:PUBLISH
X-WR-CALNAME:nett-spiel.de
X-ORIGINAL-URL:https://nettspiel.de
X-WR-CALDESC:Veranstaltungen für nett-spiel.de
REFRESH-INTERVAL;VALUE=DURATION:PT1H
X-Robots-Tag:noindex
X-PUBLISHED-TTL:PT1H
BEGIN:VTIMEZONE
TZID:UTC
BEGIN:STANDARD
TZOFFSETFROM:+0000
TZOFFSETTO:+0000
TZNAME:UTC
DTSTART:20240101T000000
END:STANDARD
END:VTIMEZONE
BEGIN:VEVENT
DTSTART;TZID=UTC:20260227T193000
DTEND;TZID=UTC:20260227T230000
DTSTAMP:20260419T133346
CREATED:20260201T191005Z
LAST-MODIFIED:20260201T191005Z
UID:24970-1772220600-1772233200@nettspiel.de
SUMMARY:Spieleabend Schlossböckelheim
DESCRIPTION:
URL:https://nettspiel.de/event/spieleabend-schlossboeckelheim/
LOCATION:Gemeindehaus Schlossböckelheim\, Schulstraße 1\, Schloßböckelheim\, 55596\, Germany
END:VEVENT
BEGIN:VEVENT
DTSTART;TZID=UTC:20260213T180000
DTEND;TZID=UTC:20260213T220000
DTSTAMP:20260419T133346
CREATED:20260201T190720Z
LAST-MODIFIED:20260201T190720Z
UID:24967-1771005600-1771020000@nettspiel.de
SUMMARY:Lasst uns spielen
DESCRIPTION:
URL:https://nettspiel.de/event/lasst-uns-spielen/
LOCATION:ev. Gemeindehaus Mandel\, Schlossstrasse 27\, Mandel\, Rheinland-Pfalz\, 55595
END:VEVENT
BEGIN:VEVENT
DTSTART;TZID=UTC:20260207T140000
DTEND;TZID=UTC:20260207T233000
DTSTAMP:20260419T133346
CREATED:20260201T185300Z
LAST-MODIFIED:20260201T190130Z
UID:24959-1770472800-1770507000@nettspiel.de
SUMMARY:Brettspieletag Hennweiler
DESCRIPTION:
URL:https://nettspiel.de/event/brettspieletag-hennweiler/
LOCATION:Gemeindehaus Hennweiler\, Hennweiler\, Rheinland-Pfalz\, 55606\, Germany
END:VEVENT
BEGIN:VEVENT
DTSTART;TZID=UTC:20260206T150000
DTEND;TZID=UTC:20260206T180000
DTSTAMP:20260419T133346
CREATED:20260201T190259Z
LAST-MODIFIED:20260201T190259Z
UID:24965-1770390000-1770400800@nettspiel.de
SUMMARY:Spielenachmittag in die Stadtbibliothek
DESCRIPTION:
URL:https://nettspiel.de/event/spielenachmittag-in-die-stadtbibliothek/
LOCATION:Stadtbibliothek Bad Kreuznach\, Kreuzstr. 69\, Bad Kreuznach
END:VEVENT
BEGIN:VEVENT
DTSTART;TZID=UTC:20260109T180000
DTEND;TZID=UTC:20260109T213000
DTSTAMP:20260419T133346
CREATED:20260105T165956Z
LAST-MODIFIED:20260105T165956Z
UID:24949-1767981600-1767994200@nettspiel.de
SUMMARY:Spieletreffen in Mandel
DESCRIPTION:Ev. Gemeindehaus Schlossstr. 27 55595 Mandel
URL:https://nettspiel.de/event/spieletreffen-in-mandel-2-2-2/
END:VEVENT
BEGIN:VEVENT
DTSTART;TZID=UTC:20251128T073000
DTEND;TZID=UTC:20251128T103000
DTSTAMP:20260419T133346
CREATED:20251030T180116Z
LAST-MODIFIED:20251030T180137Z
UID:24942-1764315000-1764325800@nettspiel.de
SUMMARY:Spieleabend in Schloßböckelheim
DESCRIPTION:
URL:https://nettspiel.de/event/spieleabend-in-schlossboeckelheim-2-2-2-2/
END:VEVENT
BEGIN:VEVENT
DTSTART;TZID=UTC:20251128T030000
DTEND;TZID=UTC:20251128T180000
DTSTAMP:20260419T133346
CREATED:20250810T201937Z
LAST-MODIFIED:20251030T175928Z
UID:24883-1764298800-1764352800@nettspiel.de
SUMMARY:Spielen in der Stadtbibliothek
DESCRIPTION:
URL:https://nettspiel.de/event/spielen-in-der-stadtbibliothek-2/
LOCATION:Stadtbibliothek Bad Kreuznach\, Kreuzstr. 69\, Bad Kreuznach
END:VEVENT
BEGIN:VEVENT
DTSTART;TZID=UTC:20251114T060000
DTEND;TZID=UTC:20251114T090000
DTSTAMP:20260419T133346
CREATED:20251105T211423Z
LAST-MODIFIED:20251105T211423Z
UID:24947-1763100000-1763110800@nettspiel.de
SUMMARY:Spieletreffen in Mandel
DESCRIPTION:Ev. Gemeindehaus Schlossstr. 27 55595 Mandel
URL:https://nettspiel.de/event/spieletreffen-in-mandel-2-2/
END:VEVENT
BEGIN:VEVENT
DTSTART;TZID=UTC:20251104T180000
DTEND;TZID=UTC:20251104T213000
DTSTAMP:20260419T133346
CREATED:20250917T140329Z
LAST-MODIFIED:20251030T180506Z
UID:24928-1762279200-1762291800@nettspiel.de
SUMMARY:Pasta and Play Special BotC
DESCRIPTION:Bitte anmelden! \nPrina Tratoria \nPlaniger Str. 7 \n55543 Bad Kreuznach
URL:https://nettspiel.de/event/hier-koennte-was-kommen-bleibt-gespannt/
END:VEVENT
BEGIN:VEVENT
DTSTART;TZID=UTC:20251031T193000
DTEND;TZID=UTC:20251031T220000
DTSTAMP:20260419T133346
CREATED:20250917T140736Z
LAST-MODIFIED:20251021T162301Z
UID:24931-1761939000-1761948000@nettspiel.de
SUMMARY:Spieleabend in Schloßböckelheim
DESCRIPTION:
URL:https://nettspiel.de/event/spieleabend-in-schlossboeckelheim-2-2-2/
LOCATION:Gemeindehaus Schlossböckelheim\, Schulstraße 1\, Schloßböckelheim\, 55596\, Germany
END:VEVENT
BEGIN:VEVENT
DTSTART;VALUE=DATE:20251023
DTEND;VALUE=DATE:20251027
DTSTAMP:20260419T133346
CREATED:20250824T192346Z
LAST-MODIFIED:20250824T192346Z
UID:24911-1761177600-1761523199@nettspiel.de
SUMMARY:Spiel 2025 in Essen
DESCRIPTION:
URL:https://nettspiel.de/event/spiel-2025-in-essen-2/
END:VEVENT
BEGIN:VEVENT
DTSTART;TZID=UTC:20251012T150000
DTEND;TZID=UTC:20251012T160000
DTSTAMP:20260419T133346
CREATED:20250821T204346Z
LAST-MODIFIED:20250821T204346Z
UID:24905-1760281200-1760284800@nettspiel.de
SUMMARY:Ritter Also
DESCRIPTION:
URL:https://nettspiel.de/event/ritter-also/
LOCATION:Im Huttental – Bad Münster\, Bad Münster am Stein\, Germany
END:VEVENT
BEGIN:VEVENT
DTSTART;TZID=UTC:20251010T180000
DTEND;TZID=UTC:20251010T213000
DTSTAMP:20260419T133346
CREATED:20250924T155553Z
LAST-MODIFIED:20250924T201642Z
UID:24935-1760119200-1760131800@nettspiel.de
SUMMARY:Spieletreffen in Mandel
DESCRIPTION:Ev. Gemeindehaus Schlossstr. 27 55595 Mandel
URL:https://nettspiel.de/event/spieletreffen-in-mandel-2/
END:VEVENT
BEGIN:VEVENT
DTSTART;TZID=UTC:20250928T150000
DTEND;TZID=UTC:20250928T160000
DTSTAMP:20260419T133346
CREATED:20250821T204220Z
LAST-MODIFIED:20250821T204220Z
UID:24903-1759071600-1759075200@nettspiel.de
SUMMARY:Hans im neuen Glück
DESCRIPTION:
URL:https://nettspiel.de/event/hans-im-neuen-glueck/
LOCATION:Im Huttental – Bad Münster\, Bad Münster am Stein\, Germany
END:VEVENT
BEGIN:VEVENT
DTSTART;TZID=UTC:20250927T100000
DTEND;TZID=UTC:20250927T170000
DTSTAMP:20260419T133346
CREATED:20250810T192201Z
LAST-MODIFIED:20250810T192201Z
UID:24874-1758967200-1758992400@nettspiel.de
SUMMARY:Anschachern - 1. Terassen-Schach-Turnier
DESCRIPTION:für Anfänger und Fortgeschrittene\nauch für interessierte Kinder\nVerpflegung vorhanden\nkein Startgeld\naus organisatorischen Gründen nur mit Anmeldung
URL:https://nettspiel.de/event/anschachern-1-terassen-schach-turnier/
END:VEVENT
BEGIN:VEVENT
DTSTART;TZID=UTC:20250921T100000
DTEND;TZID=UTC:20250921T180000
DTSTAMP:20260419T133346
CREATED:20250824T192231Z
LAST-MODIFIED:20250824T192231Z
UID:24909-1758448800-1758477600@nettspiel.de
SUMMARY:Stadt Land Spielt!
DESCRIPTION:
URL:https://nettspiel.de/event/stadt-land-spielt/
LOCATION:ev. Gemeindehaus Simmertal\, Pfarrer-Raquot-Str. 4\, Simmertal
END:VEVENT
BEGIN:VEVENT
DTSTART;TZID=UTC:20250920T100000
DTEND;TZID=UTC:20250920T220000
DTSTAMP:20260419T133346
CREATED:20250810T202308Z
LAST-MODIFIED:20250810T203130Z
UID:24888-1758362400-1758405600@nettspiel.de
SUMMARY:Stadt Land Spielt in Simmertal
DESCRIPTION:freier Eintritt\nmit Spieleturnier
URL:https://nettspiel.de/event/stadt-land-spielt-in-simmertal/
LOCATION:ev. Gemeindehaus Simmertal\, Pfarrer-Raquot-Str. 4\, Simmertal
END:VEVENT
BEGIN:VEVENT
DTSTART;TZID=UTC:20250919T193000
DTEND;TZID=UTC:20250919T223000
DTSTAMP:20260419T133346
CREATED:20250824T192911Z
LAST-MODIFIED:20250917T135911Z
UID:24876-1758310200-1758321000@nettspiel.de
SUMMARY:Spieleabend in Schloßböckelheim
DESCRIPTION:
URL:https://nettspiel.de/event/spieleabend-in-schlossboeckelheim-2/
END:VEVENT
BEGIN:VEVENT
DTSTART;TZID=UTC:20250919T150000
DTEND;TZID=UTC:20250919T190000
DTSTAMP:20260419T133346
CREATED:20250810T201728Z
LAST-MODIFIED:20250908T175115Z
UID:24880-1758294000-1758308400@nettspiel.de
SUMMARY:Spielen in der Stadtbibliothek
DESCRIPTION:
URL:https://nettspiel.de/event/spielen-in-der-stadtbibliothek/
LOCATION:Stadtbibliothek Bad Kreuznach\, Kreuzstr. 69\, Bad Kreuznach
END:VEVENT
BEGIN:VEVENT
DTSTART;TZID=UTC:20250912T180000
DTEND;TZID=UTC:20250912T213000
DTSTAMP:20260419T133346
CREATED:20250906T212039Z
LAST-MODIFIED:20250906T212039Z
UID:24920-1757700000-1757712600@nettspiel.de
SUMMARY:Spieletreffen in Mandel
DESCRIPTION:
URL:https://nettspiel.de/event/spieletreffen-in-mandel/
END:VEVENT
BEGIN:VEVENT
DTSTART;TZID=UTC:20250907T150000
DTEND;TZID=UTC:20250907T160000
DTSTAMP:20260419T133346
CREATED:20250821T204057Z
LAST-MODIFIED:20250821T204057Z
UID:24901-1757257200-1757260800@nettspiel.de
SUMMARY:Schinderhannes reloaded
DESCRIPTION:
URL:https://nettspiel.de/event/schinderhannes-reloaded/
LOCATION:Im Huttental – Bad Münster\, Bad Münster am Stein\, Germany
END:VEVENT
BEGIN:VEVENT
DTSTART;TZID=UTC:20250907T140000
DTEND;TZID=UTC:20250907T170000
DTSTAMP:20260419T133346
CREATED:20250824T192000Z
LAST-MODIFIED:20250824T192000Z
UID:24907-1757253600-1757264400@nettspiel.de
SUMMARY:Spielefest in Obermoschel
DESCRIPTION:
URL:https://nettspiel.de/event/spielefest-in-obermoschel/
END:VEVENT
BEGIN:VEVENT
DTSTART;TZID=UTC:20250906T170000
DTEND;TZID=UTC:20250906T210000
DTSTAMP:20260419T133346
CREATED:20250810T201301Z
LAST-MODIFIED:20250810T204433Z
UID:24877-1757178000-1757192400@nettspiel.de
SUMMARY:Sommerfest für Mitglieder und solche die es werden möchten
DESCRIPTION:
URL:https://nettspiel.de/event/sommerfest-fuer-mitglieder-und-solche-die-es-werden-moechten/
LOCATION:Gemeindehaus Schlossböckelheim\, Schulstraße 1\, Schloßböckelheim\, 55596\, Germany
END:VEVENT
BEGIN:VEVENT
DTSTART;TZID=UTC:20250829T193000
DTEND;TZID=UTC:20250829T233000
DTSTAMP:20260419T133346
CREATED:20250810T203338Z
LAST-MODIFIED:20250810T203338Z
UID:24894-1756495800-1756510200@nettspiel.de
SUMMARY:Spieleabend in Schloßböckelheim
DESCRIPTION:
URL:https://nettspiel.de/event/spieleabend-in-schlossboeckelheim/
LOCATION:Gemeindehaus Schlossböckelheim\, Schulstraße 1\, Schloßböckelheim\, 55596\, Germany
END:VEVENT
BEGIN:VEVENT
DTSTART;TZID=UTC:20250725T190000
DTEND;TZID=UTC:20250725T190000
DTSTAMP:20260419T133346
CREATED:20250709T122057Z
LAST-MODIFIED:20250709T122147Z
UID:24836-1753470000-1753470000@nettspiel.de
SUMMARY:Spieleabend im Juli
DESCRIPTION:
URL:https://nettspiel.de/event/spieleabend-juli/
LOCATION:Gemeindehaus Schlossböckelheim\, Schulstraße 1\, Schloßböckelheim\, 55596\, Germany
END:VEVENT
BEGIN:VEVENT
DTSTART;TZID=UTC:20250628T190000
DTEND;TZID=UTC:20250628T190000
DTSTAMP:20260419T133346
CREATED:20250623T105309Z
LAST-MODIFIED:20250710T061932Z
UID:24583-1751137200-1751137200@nettspiel.de
SUMMARY:Spieleabend
DESCRIPTION:
URL:https://nettspiel.de/event/spieleabend/
LOCATION:Gemeindehaus Schlossböckelheim\, Schulstraße 1\, Schloßböckelheim\, 55596\, Germany
END:VEVENT
END:VCALENDAR